BEGIN:VCALENDAR
VERSION:2.0
PRODID:-//SEFIN s.p.a. | EBI - Easy Banca d&#039;Italia - ECPv6.15.20//NONSGML v1.0//EN
CALSCALE:GREGORIAN
METHOD:PUBLISH
X-WR-CALNAME:SEFIN s.p.a. | EBI - Easy Banca d&#039;Italia
X-ORIGINAL-URL:https://ebi.sefin.it/en/
X-WR-CALDESC:Events for SEFIN s.p.a. | EBI - Easy Banca d&#039;Italia
REFRESH-INTERVAL;VALUE=DURATION:PT1H
X-Robots-Tag:noindex
X-PUBLISHED-TTL:PT1H
BEGIN:VTIMEZONE
TZID:Europe/Rome
BEGIN:DAYLIGHT
TZOFFSETFROM:+0100
TZOFFSETTO:+0200
TZNAME:CEST
DTSTART:20210328T010000
END:DAYLIGHT
BEGIN:STANDARD
TZOFFSETFROM:+0200
TZOFFSETTO:+0100
TZNAME:CET
DTSTART:20211031T010000
END:STANDARD
BEGIN:DAYLIGHT
TZOFFSETFROM:+0100
TZOFFSETTO:+0200
TZNAME:CEST
DTSTART:20220327T010000
END:DAYLIGHT
BEGIN:STANDARD
TZOFFSETFROM:+0200
TZOFFSETTO:+0100
TZNAME:CET
DTSTART:20221030T010000
END:STANDARD
BEGIN:DAYLIGHT
TZOFFSETFROM:+0100
TZOFFSETTO:+0200
TZNAME:CEST
DTSTART:20230326T010000
END:DAYLIGHT
BEGIN:STANDARD
TZOFFSETFROM:+0200
TZOFFSETTO:+0100
TZNAME:CET
DTSTART:20231029T010000
END:STANDARD
BEGIN:DAYLIGHT
TZOFFSETFROM:+0100
TZOFFSETTO:+0200
TZNAME:CEST
DTSTART:20240331T010000
END:DAYLIGHT
BEGIN:STANDARD
TZOFFSETFROM:+0200
TZOFFSETTO:+0100
TZNAME:CET
DTSTART:20241027T010000
END:STANDARD
END:VTIMEZONE
BEGIN:VEVENT
DTSTART;TZID=Europe/Rome:20230926T090000
DTEND;TZID=Europe/Rome:20230926T130000
DTSTAMP:20260424T173053
CREATED:20230915T084732Z
LAST-MODIFIED:20241025T150450Z
UID:21965-1695718800-1695733200@ebi.sefin.it
SUMMARY:[CORSO DI FORMAZIONE] Il Factoring nella Centrale dei Rischi di Banca d’Italia
DESCRIPTION:[vc_row][vc_column width=”1/2″ css=”.vc_custom_1691566717786{margin-top: 50px !important;}”][vc_text_separator title=”CR\, Factoring e Circ. n. 139″ i_icon_fontawesome=”fas fa-file-alt” i_size=”sm” color=”vista_blue” add_icon=”true”][vc_column_text]ASSIFACT (Associazione Italiana per il Factoring) organizza una sessione formativa di approfondimento sul trattamento segnaletico dell’operazione di Factoring nella circolare di Banca d’Italia n. 139 che disciplina il servizio di Centrale dei Rischi e ne riporta le istruzioni che gli Intermediari Finanziari devono seguire per l’invio delle segnalazioni. \nDurante l’incontro daranno un contributo gli esperti di SEFIN e Forgroup Consulting in merito all’uso della Centrale dei Rischi per l’analisi direzionale ai fini di monitoraggio\, controllo e sviluppo del credito.[/vc_column_text][/vc_column][vc_column width=”1/2″ css=”.vc_custom_1691566745027{margin-top: 100px !important;}”][vc_single_image image=”22119″ img_size=”large”][/vc_column][/vc_row][vc_row][vc_column width=”2/3″][vc_text_separator title=”Agenda del corso” i_type=”material” i_icon_material=”vc-material vc-material-account_balance” i_size=”sm” color=”vista_blue” add_icon=”true”][vc_column_text] Quadro normativo e caratteristiche generali della CR Bankitalia \n Le operazioni di factoring nella Centrale Rischi\, il modello segnaletico e le implicazioni per la valutazione del rischio di credito \n La CR e l’evoluzione normativa a livello italiano ed europeo o Valutazione dati CR e percorsi di analisi \n Flussi CR disponibili \n Contenuto informativo flussi di ritorno \n Costruzione Data Mart Centrale Rischi \n Scelta strumenti di analisi \n Sviluppo modelli concettuali \n Analisi Periodiche ed Estemporanee \n Esempi percorsi di analisi e report[/vc_column_text][vc_text_separator title=”Quota di partecipazione” i_icon_fontawesome=”fas fa-euro-sign” i_size=”sm” color=”vista_blue” add_icon=”true”][vc_column_text]Associati ASSIFACT: 500 euro + IVA 22% \nNon Associati ASSIFACT: 600 euro + IVA 22%[/vc_column_text][vc_text_separator title=”Modalità di partecipazione” i_icon_fontawesome=”fas fa-podcast” i_size=”sm” color=”vista_blue” add_icon=”true”][vc_column_text]Online in modalità webinar tramite piattaforma Microsoft Teams \nIn presenza presso la sala meeting di SEFIN in V.le Zara 10\, Milano[/vc_column_text][/vc_column][vc_column width=”1/3″ css=”.vc_custom_1691566796753{margin-top: 40px !important;}”][vc_column_text css=”.vc_custom_1691566505455{padding-top: 10px !important;padding-right: 10px !important;padding-bottom: 10px !important;padding-left: 10px !important;background-color: #f2f2f2 !important;}”] RELATORI \n\n\nNicoletta Burini: Responsabile Servizio Relazioni Istituzionali\, Media e Formazione. ASSIFACT \nDiego Tavecchia: Responsabile Servizio Studi\, Commissioni Tecniche e Affari Internazionali. ASSIFACT \nAmbrogio Origgi: Consulente tecnico/funzionale esperto area Segnalazioni\, Centrale Rischi e Flussi di ritorno emessi da Banca D’Italia. ForGroup Consulting srl \nClaudio Zanini: Consulente funzionale e formatore\, esperto Area Segnalazioni di Vigilanza Nazionali e Armonizzate\, Centrale dei Rischi. ForGroup Consulting Srl \n\n\n[/vc_column_text][vc_column_text css=”.vc_custom_1691566582424{margin-top: 10px !important;padding-top: 10px !important;padding-right: 10px !important;padding-bottom: 10px !important;padding-left: 10px !important;background-color: #f2f2f2 !important;}”] DESTINATARI \nPersonale delle società di factoring inserito in funzioni di gestione clienti\, crediti\, risk[/vc_column_text][vc_column_text css=”.vc_custom_1691566575361{margin-top: 10px !important;padding-top: 10px !important;padding-right: 10px !important;padding-bottom: 10px !important;padding-left: 10px !important;background-color: #f2f2f2 !important;}”] DOCUMENTAZIONE \nSaranno rilasciati un attestato di partecipazione e le slide dei relatori proiettate durante il corso[/vc_column_text][vc_column_text css=”.vc_custom_1691566598430{padding-top: 10px !important;padding-right: 10px !important;padding-bottom: 10px !important;padding-left: 10px !important;background-color: #f2f2f2 !important;}”] INFO \nL’iscrizione ai corsi deve essere effettuata tramite form online\, per ulteriori informazioni o chiarimenti scrivere a: vittorio.curcio@sefin.it.[/vc_column_text][/vc_column][/vc_row][vc_row][vc_column][vc_column_text]ISCRIVITI QUI AI CORSI DI FORMAZIONE 2023 RM_Stats [FORMAZIONE PERIODICA] Puoi selezionare una o più date \nSeleziona: * MERC. 22 NOVEMBRE [AML] - Focus Antiriciclaggio: Principi\, evoluzioni normative e aggiornamenti - [09:30-17:30] - 300€ + IVA 22%   DATI DEL PARTECIPANTE Nome *Cognome *Email *Azienda *RuoloTelefono Come desideri seguire il nostro corso? Online\, in forma di webinar   In presenza\, presso la nostra sala meeting in V.le Zara 10 (Milano)   DATI PER LA FATTURAZIONE (solo per corsi a pagamento) Intestazione fatturaCodice destinatario SDI e PECPartita IVA e Codice FiscaleIndirizzo fatturazioneNOTE o RICHIESTE SPECIFICHEInformativa GDPR sull'iscrizione ai corsi di formazione *GentIle utente\, Ai sensi dell’art. 13 Regolamento UE n. 2016/679 (in seguito\, “GDPR”)\, La informiamo che il trattamento dei dati da Lei forniti sarà effettuato con modalità e procedure finalizzate a garantire che il trattamento dei dati personali si svolga nel rispetto dei diritti e delle libertà fondamentali\, nonché della dignità dell’interessato\, con particolare riferimento alla riservatezza e sicurezza\, all’identità personale e al diritto alla protezione dei dati personali. Rammentiamo che per trattamento si intende qualsiasi operazione o insieme di operazioni\, compiute con o senza l’ausilio di processi automatizzati e applicate a dati personali o insiemi di dati personali\, come la raccolta\, la registrazione\, l’organizzazione\, la strutturazione\, la conservazione\, l’adattamento o la modifica\, l’estrazione\, la consultazione\, l’uso\, la comunicazione mediante trasmissione\, diffusione o qualsiasi altra forma di messa a disposizione\, il raffronto o l’interconnessione\, la limitazione\, la cancellazione o la distruzione (art. 4 GDPR). 1) Oggetto del trattamento e origine dei dati I dati trattati da SEFIN S.p.A. sono raccolti direttamente presso l’interessato e si riferiscono a: dati anagrafici (nome e cognome); dati identificativi (indirizzo email); dati legati alla sua posizione lavorativa; informazioni relativi alle iscrizioni ad associazioni di settore. 2) Base giuridica del trattamento La base giuridica di tale trattamento di ravvisa nel suo consenso espresso ed inequivocabile (ex art. 6.1\, lett. A) del GDPR). 3) Finalità del trattamento I dati personali e le eventuali variazioni che Lei comunicherà in futuro a Sefin S.p.A. sono raccolti e trattati per l’esclusiva finalità di registrare la Sua partecipazione al corso di formazione. 4) Modalità del trattamento Il trattamento si limita alle seguenti operazioni e con le seguenti modalità: Raccolta dei dati presso l’interessato\, tramite compilazione di modulistica cartacea o applicativi aziendali; Registrazione ed elaborazione su supporto informatizzato e cartaceo; Organizzazione degli archivi in forma prevalentemente automatizzata\, attraverso applicativi aziendali e anagrafiche informatizzate; Comunicazione dei Suoi dati a soggetti terzi\, debitamenti autorizzati dal Titolare del Trattamento. Il trattamento dei dati avverrà mediante strumenti idonei a garantirne la riservatezza\, l’integrità e la disponibilità\, nel rispetto di adeguate misure tecniche ed organizzative di sicurezza previste dal GDPR. Il trattamento è effettuato mediante supporto cartacei e sistemi informativi e/o automatizzati e comprenderà tutte le operazioni o complesso di operazioni previste all’art. 4 del GDPR e necessarie al trattamento in questione\, ivi inclusa la comunicazione nei confronti dei soggetti incaricati al trattamento stesso. I dati in questione non saranno oggetto di diffusione\, mentre verranno o potranno venire comunicati a soggetti\, pubblici o privati\, che operano nell’ambito delle finalità sopra descritte. 5) Conservazione dei dati Il Titolare tratterà i Suoi dati personali per il tempo necessario per adempiere alle finalità di cui sopra e comunque per non oltre dieci anni dalla loro raccolta. 6) Accesso al trattamento I dati saranno resi accessibili\, per le finalità di cui al punto n. 3: Ai dipendenti/collaboratori nella loro qualità di autorizzati al trattamento\, previa idonea nomina; A soggetti terzi\, individuati come Responsabili del trattamento da parte del Titolare del trattamento dei dati. I Suoi dati non verranno comunicati a soggetti terzi terzi non autorizzati. I suoi dati non saranno oggetto di diffusione in alcun modo. A tal fine il trattamento è condotto con l’impiego delle misure di sicurezza idonee ad impedire l’accesso ai dati non autorizzato da parte di terzi e a garantirne la riservatezza. 7) Trasferimento dei dati La gestione e la conservazione dei dati personali avverrà su server ubicati all’interno dell’Unione Europea del Titolare e/o di società terze incaricate e debitamente nominate quali Responsabili del trattamento. I dati non saranno oggetto di trasferimento al di fuori dell’Unione Europea. 8) Natura del conferimento dei dati e conseguenze del rifiuto di rispondere Il conferimento dei dati per le finalità di cui al punto 3 è obbligatorio. In loro assenza\, non sarà possibile procedere con la registrazione della sua partecipazione al corso di formazione. 9) Diritti dell’interessato Secondo le disposizioni del GDPR\, l’interessato ha i seguenti diritti nei confronti del Titolare del Trattamento: ottenere la conferma che sia o meno in corso un trattamento di dati personali che lo riguardano e in tal caso\, di ottenere l’accesso ai dati personali (Diritto di accesso art. 15); di ottenere la rettifica dei dati personali inesatti che lo riguardano senza ingiustificato ritardo (Diritto di Rettifica art. 16); ottenere la cancellazione dei dati personali che lo riguardano senza ingiustificato ritardo e il titolare del trattamento ha l’obbligo di cancellare senza ingiustificato ritardo i dati personali\, se sussistono determinate condizioni (Diritto all’oblio art. 17); ottenere la limitazione del trattamento in determinate ipotesi (Diritto alla limitazione del trattamento art. 18); ricevere in un formato strutturato\, di uso comune e leggibile da dispositivo automatico i dati personali che lo riguardano forniti e ha il diritto di trasmettere tali dati a un altro Titolare del trattamento\, senza impedimenti da parte del titolare del trattamento cui li ha forniti\, in determinati casi (Diritto alla portabilità dei dati art. 20); opporsi in qualsiasi momento\, per motivi connessi alla sua situazione particolare\, al trattamento dei dati personali che lo riguardano (Diritto di opposizione art 21); ricevere senza ingiustificato ritardo comunicazione della violazione dei dati personali subita dal Titolare del trattamento (Art. 34); revocare il consenso espresso in qualsiasi momento (Condizioni per il consenso art. 7). Ove applicabili\, l’interessato ha altresì i diritti di cui agli artt. 16-21 GDPR (Diritto di rettifica\, diritto all’oblio\, diritto di limitazione di trattamento\, diritto alla portabilità dei dati\, diritto di opposizione)\, nonché il diritto di reclamo all’Autorità Garante. 10) Modalità di esercizio del diritto Invio di messaggio di posta elettronica presso l’indirizzo del Titolare del trattamento privacy@sefin.it 11) Titolare del Trattamento Il Titolare del Trattamento è Sefin S.p.A. P. Iva 04919090151 Viale Zara\, 10 20124 Milano. L’elenco dei responsabili e degli autorizzati al trattamento è consultabile presso la sede del titolare sopra citata. 12) Aggiornamento della presente informativa La presente Informativa può subire variazioni. Eventuali modifiche sostanziali saranno trasmesse agli interessati tramite avviso o pubblicazione sul sito internet aziendale.Acconsento al trattamento dei dati personali secondo le condizioni espresse nell'Informativa Privacy\, ai sensi dell’art. 13 del GDPRInformativa sui Termini di pagamento\, cancellazione\, riprese audio/video *Pagamento delle quote di iscrizione: l’iscrizione online ai corsi di formazione EBI rimane valida qualora venga effettuato il pagamento della quota d’iscrizione entro pochi giorni\, salvo diversi accordi specifici con lo staff EBI. Ai fini del saldo è possibile richiedere una fattura proforma tramite e-mail. È possibile consultare qui il dettaglio delle quote di partecipazione con la relativa scontistica. \nPolitica di cancellazione annullamento del corso: nel caso di cancellazione dell’iscrizione ad un corso di formazione o mancata partecipazione non comunicata entro 5 giorni lavorativi dalla data dell’evento\, la quota pagata sarà comunque fatturata. Se l’evento viene cancellato da SEFIN e quindi per cause non imputabili al partecipante\, la quota eventualmente già pagata e fatturata sarà restituita per intero. \nRiprese audio e video: durante lo svolgimento del corso potrebbero essere fatte riprese fotografiche e video digitali pertanto il partecipante accetta e inoltre dichiara di non aver nulla a pretendere per qualsiasi titolo\, ragione o causa\, presente e/o futura. Le immagini o le riprese video non sono finalizzate a riprendere i volti dei partecipanti e verranno usate esclusivamente a fini promozionali e informativi o sui siti www.sefin.it ed ebi.sefin.it. Ai partecipanti è fatto divieto di effettuare registrazioni audio o video con strumenti propri.Acconsento ai TerminiNews alert Acconsento all'invio di materiale informativo e promozionale tramite newsletter da parte del Titolare del trattamento           \n            Note: It looks like JavaScript is disabled in your browser. Some elements of this form may require JavaScript to work properly. If you have trouble submitting the form\, try enabling JavaScript momentarily and resubmit. JavaScript settings are usually found in Browser Settings or Browser Developer menu.\n            \n        \n    [/vc_column_text][/vc_column][/vc_row]
URL:https://ebi.sefin.it/en/corsi/corso-di-formazione-il-factoring-nella-centrale-dei-rischi-di-banca-ditalia/
CATEGORIES:prossimi corsi
END:VEVENT
BEGIN:VEVENT
DTSTART;TZID=Europe/Rome:20220228T110000
DTEND;TZID=Europe/Rome:20220228T130000
DTSTAMP:20260424T173054
CREATED:20200409T093024Z
LAST-MODIFIED:20241025T150450Z
UID:12845-1646046000-1646053200@ebi.sefin.it
SUMMARY:[PERCORSO ANTIRICICLAGGIO] L’autovalutazione dei rischi di riciclaggio e gli impatti sull'organizzazione aziendale
DESCRIPTION:[vc_row][vc_column width=”1/2″][vc_column_text]SEFIN\, in collaborazione con A.P.S.P. (Associazione Prestatori Servizi di Pagamento)\, ha organizzato un corso con un focus sull’Autovalutazione dei rischi di riciclaggio rivolta agli Istituti di Pagamento (IP) e gli Istituti di Moneta Elettronica (IMEL). \nL’obiettivo dell’Esercizio di Autovalutazione è di sicuro la protezione del sistema finanziario mediante la prevenzione\, l’individuazione e l’indagine del riciclaggio e del finanziamento del terrorismo. L’analisi mira a individuare\, analizzare e valutare i principali rischi nazionali di ML/FT\, attraverso l’esame delle cause da cui derivano\, delle vulnerabilità che ne permettono il verificarsi e delle conseguenze che determinano.[/vc_column_text][vc_text_separator title=”Agenda del corso” i_type=”material” i_icon_material=”vc-material vc-material-account_balance” i_color=”green” color=”orange” add_icon=”true”][vc_column_text]Durante il corso di formazione ripercorrendo la normativa di riferimento\, si approfondiranno: \n\nSoggetti obbligati\nScopo dell’autovalutazione dei rischi\nModalità di conduzione dell’esercizio di autovalutazione\nAspetti basilari e fasi\nAzioni di rimedio\nRelazione annuale della funzione Antiriciclaggio\nDefinizione e approvazione della policy Antiriciclaggio\n\n[/vc_column_text][vc_column_text css=”.vc_custom_1644315294658{padding-right: 10px !important;padding-bottom: 34px !important;padding-left: 10px !important;background-color: #f2f2f2 !important;}”] RELATORI \nFabrizio Monti: Consulente funzionale\, esperto area Segnalazioni di Vigilanza\, Centrale dei Rischi\, Antiriciclaggio\, Compliance e Risk Management. Sefin SpA \nElizabeth Emanuela Tavolini: Consulente Funzionale\, esperto Area Servizi e Segnalazioni\, Antiriciclaggio e Compliance. Sefin SpA \nElena Malinverno: Consulente funzionale\, esperto Area Servizi e Segnalazioni Antiriciclaggio e Agenzia delle Entrate. Sefin SpA \n QUOTA DI PARTECIPAZIONE \nIl costo del corso è di euro 100 + iva 22%[/vc_column_text][/vc_column][vc_column width=”1/2″][vc_single_image image=”19616″ img_size=”large”][vc_column_text css=”.vc_custom_1644317336039{margin-bottom: 66px !important;}”]\n\n\n    \n        \n            \n            \n                Programma wEBInar Autovalutazione  – 28/02/2022\n                 1 file(s)  476.17 KB\n            \n            \n                Download\n            \n        \n    \n\n\n[/vc_column_text][vc_column_text css=”.vc_custom_1644509984625{margin-top: 20px !important;padding-right: 10px !important;padding-bottom: 6px !important;padding-left: 10px !important;background-color: #f2f2f2 !important;}”] COME PARTECIPARE \nÈ possibile partecipare al corso online in modalità webinar tramite piattaforma Zoom Webinars Video e in presenza nella nostra sala meeting in V.le Zara 10\, Milano \n DOCUMENTAZIONE \nA fine corso\, oltre all’attestato di partecipazione valido ai fini degli obblighi formativi come disposto dall’Art. 16 comma 3 del novellato D.Lgs. 231/07 per le ore frequentate\, saranno rilasciate le slide proiettate dai relatori \n INFO \nL’iscrizione ai corsi deve essere effettuata tramite form online\, per ulteriori informazioni o chiarimenti scrivere a: ebi@sefin.digital[/vc_column_text][/vc_column][/vc_row][vc_row][vc_column][vc_column_text]ISCRIVITI QUI AI CORSI DI FORMAZIONE 2022 RM_Stats [FORMAZIONE PERIODICA] Puoi selezionare una o più date \nSeleziona: * PROSSIMAMENTE NUOVA PROGRAMMAZIONE CORSI 2023   DATI DEL PARTECIPANTE Nome *Cognome *Email *Azienda *RuoloTelefono Come desideri seguire il nostro corso? Online\, in forma di webinar   In presenza\, presso la nostra sala meeting in V.le Zara 10 (Milano)   DATI PER LA FATTURAZIONE (solo per corsi a pagamento) Intestazione fatturaCodice destinatario SDI e PECPartita IVA e Codice FiscaleIndirizzo fatturazioneNOTE o RICHIESTE SPECIFICHEInformativa GDPR sull'iscrizione ai corsi di formazione *GentIle utente\, Ai sensi dell’art. 13 Regolamento UE n. 2016/679 (in seguito\, “GDPR”)\, La informiamo che il trattamento dei dati da Lei forniti sarà effettuato con modalità e procedure finalizzate a garantire che il trattamento dei dati personali si svolga nel rispetto dei diritti e delle libertà fondamentali\, nonché della dignità dell’interessato\, con particolare riferimento alla riservatezza e sicurezza\, all’identità personale e al diritto alla protezione dei dati personali. Rammentiamo che per trattamento si intende qualsiasi operazione o insieme di operazioni\, compiute con o senza l’ausilio di processi automatizzati e applicate a dati personali o insiemi di dati personali\, come la raccolta\, la registrazione\, l’organizzazione\, la strutturazione\, la conservazione\, l’adattamento o la modifica\, l’estrazione\, la consultazione\, l’uso\, la comunicazione mediante trasmissione\, diffusione o qualsiasi altra forma di messa a disposizione\, il raffronto o l’interconnessione\, la limitazione\, la cancellazione o la distruzione (art. 4 GDPR). 1) Oggetto del trattamento e origine dei dati I dati trattati da SEFIN S.p.A. sono raccolti direttamente presso l’interessato e si riferiscono a: dati anagrafici (nome e cognome); dati identificativi (indirizzo email); dati legati alla sua posizione lavorativa; informazioni relativi alle iscrizioni ad associazioni di settore. 2) Base giuridica del trattamento La base giuridica di tale trattamento di ravvisa nel suo consenso espresso ed inequivocabile (ex art. 6.1\, lett. A) del GDPR). 3) Finalità del trattamento I dati personali e le eventuali variazioni che Lei comunicherà in futuro a Sefin S.p.A. sono raccolti e trattati per l’esclusiva finalità di registrare la Sua partecipazione al corso di formazione. 4) Modalità del trattamento Il trattamento si limita alle seguenti operazioni e con le seguenti modalità: Raccolta dei dati presso l’interessato\, tramite compilazione di modulistica cartacea o applicativi aziendali; Registrazione ed elaborazione su supporto informatizzato e cartaceo; Organizzazione degli archivi in forma prevalentemente automatizzata\, attraverso applicativi aziendali e anagrafiche informatizzate; Comunicazione dei Suoi dati a soggetti terzi\, debitamenti autorizzati dal Titolare del Trattamento. Il trattamento dei dati avverrà mediante strumenti idonei a garantirne la riservatezza\, l’integrità e la disponibilità\, nel rispetto di adeguate misure tecniche ed organizzative di sicurezza previste dal GDPR. Il trattamento è effettuato mediante supporto cartacei e sistemi informativi e/o automatizzati e comprenderà tutte le operazioni o complesso di operazioni previste all’art. 4 del GDPR e necessarie al trattamento in questione\, ivi inclusa la comunicazione nei confronti dei soggetti incaricati al trattamento stesso. I dati in questione non saranno oggetto di diffusione\, mentre verranno o potranno venire comunicati a soggetti\, pubblici o privati\, che operano nell’ambito delle finalità sopra descritte. 5) Conservazione dei dati Il Titolare tratterà i Suoi dati personali per il tempo necessario per adempiere alle finalità di cui sopra e comunque per non oltre dieci anni dalla loro raccolta. 6) Accesso al trattamento I dati saranno resi accessibili\, per le finalità di cui al punto n. 3: Ai dipendenti/collaboratori nella loro qualità di autorizzati al trattamento\, previa idonea nomina; A soggetti terzi\, individuati come Responsabili del trattamento da parte del Titolare del trattamento dei dati. I Suoi dati non verranno comunicati a soggetti terzi terzi non autorizzati. I suoi dati non saranno oggetto di diffusione in alcun modo. A tal fine il trattamento è condotto con l’impiego delle misure di sicurezza idonee ad impedire l’accesso ai dati non autorizzato da parte di terzi e a garantirne la riservatezza. 7) Trasferimento dei dati La gestione e la conservazione dei dati personali avverrà su server ubicati all’interno dell’Unione Europea del Titolare e/o di società terze incaricate e debitamente nominate quali Responsabili del trattamento. I dati non saranno oggetto di trasferimento al di fuori dell’Unione Europea. 8) Natura del conferimento dei dati e conseguenze del rifiuto di rispondere Il conferimento dei dati per le finalità di cui al punto 3 è obbligatorio. In loro assenza\, non sarà possibile procedere con la registrazione della sua partecipazione al corso di formazione. 9) Diritti dell’interessato Secondo le disposizioni del GDPR\, l’interessato ha i seguenti diritti nei confronti del Titolare del Trattamento: ottenere la conferma che sia o meno in corso un trattamento di dati personali che lo riguardano e in tal caso\, di ottenere l’accesso ai dati personali (Diritto di accesso art. 15); di ottenere la rettifica dei dati personali inesatti che lo riguardano senza ingiustificato ritardo (Diritto di Rettifica art. 16); ottenere la cancellazione dei dati personali che lo riguardano senza ingiustificato ritardo e il titolare del trattamento ha l’obbligo di cancellare senza ingiustificato ritardo i dati personali\, se sussistono determinate condizioni (Diritto all’oblio art. 17); ottenere la limitazione del trattamento in determinate ipotesi (Diritto alla limitazione del trattamento art. 18); ricevere in un formato strutturato\, di uso comune e leggibile da dispositivo automatico i dati personali che lo riguardano forniti e ha il diritto di trasmettere tali dati a un altro Titolare del trattamento\, senza impedimenti da parte del titolare del trattamento cui li ha forniti\, in determinati casi (Diritto alla portabilità dei dati art. 20); opporsi in qualsiasi momento\, per motivi connessi alla sua situazione particolare\, al trattamento dei dati personali che lo riguardano (Diritto di opposizione art 21); ricevere senza ingiustificato ritardo comunicazione della violazione dei dati personali subita dal Titolare del trattamento (Art. 34); revocare il consenso espresso in qualsiasi momento (Condizioni per il consenso art. 7). Ove applicabili\, l’interessato ha altresì i diritti di cui agli artt. 16-21 GDPR (Diritto di rettifica\, diritto all’oblio\, diritto di limitazione di trattamento\, diritto alla portabilità dei dati\, diritto di opposizione)\, nonché il diritto di reclamo all’Autorità Garante. 10) Modalità di esercizio del diritto Invio di messaggio di posta elettronica presso l’indirizzo del Titolare del trattamento privacy@sefin.it 11) Titolare del Trattamento Il Titolare del Trattamento è Sefin S.p.A. P. Iva 04919090151 Viale Zara\, 10 20124 Milano. L’elenco dei responsabili e degli autorizzati al trattamento è consultabile presso la sede del titolare sopra citata. 12) Aggiornamento della presente informativa La presente Informativa può subire variazioni. Eventuali modifiche sostanziali saranno trasmesse agli interessati tramite avviso o pubblicazione sul sito internet aziendale.Acconsento al trattamento dei dati personali secondo le condizioni espresse nell'Informativa Privacy\, ai sensi dell’art. 13 del GDPRInformativa sui Termini di pagamento\, cancellazione\, riprese audio/video *Pagamento delle quote di iscrizione L’iscrizione online ai corsi di formazione EBI rimane valida qualora venga effettuato il pagamento della quota d’iscrizione entro pochi giorni\, salvo diversi accordi specifici con lo staff EBI. Ai fini del saldo è possibile richiedere una fattura proforma tramite e-mail. E’ possibile consultare qui il dettaglio delle quote di partecipazione con la relativa scontistica. Politica di cancellazione annulllamento del corso Nel caso di cancellazione dell’iscrizione ad un corso di formazione o mancata partecipazione non comunicata entro 5 giorni lavorativi dalla data dell’evento\, la quota pagata sarà comunque fatturata. Se l’evento viene cancellato da SEFIN e quindi per cause non imputabili al partecipante\, la quota eventualmente già pagata e fatturata sarà restituita per intero. Riprese audio e video Durante lo svolgimento del corso potrebbero essere fatte riprese fotografiche e video digitali pertanto il partecipante accetta e inoltre dichiara di non aver nulla a pretendere per qualsiasi titolo\, ragione o causa\, presente e/o futura. Le immagini o le riprese video non sono finalizzate a riprendere i volti dei partecipanti e verranno usate esclusivamente a fini promozionali e informativi o sui siti www.sefin.it ed ebi.sefin.it. Ai partecipanti è fatto divieto di effettuare registrazioni audio o video con strumenti propri.Acconsento ai TerminiNews alert Acconsento all'invio di materiale informativo e promozionale tramite newsletter da parte del Titolare del trattamento           \n            Note: It looks like JavaScript is disabled in your browser. Some elements of this form may require JavaScript to work properly. If you have trouble submitting the form\, try enabling JavaScript momentarily and resubmit. JavaScript settings are usually found in Browser Settings or Browser Developer menu.\n            \n        \n    [/vc_column_text][/vc_column][/vc_row]
URL:https://ebi.sefin.it/en/corsi/lautovalutazione-dei-rischi-di-riciclaggio-e-gli-impatti-sullorganizzazione-aziendale/
CATEGORIES:prossimi corsi
END:VEVENT
END:VCALENDAR