BEGIN:VCALENDAR
VERSION:2.0
PRODID:-//SEFIN s.p.a. | EBI - Easy Banca d&#039;Italia - ECPv6.15.20//NONSGML v1.0//EN
CALSCALE:GREGORIAN
METHOD:PUBLISH
X-WR-CALNAME:SEFIN s.p.a. | EBI - Easy Banca d&#039;Italia
X-ORIGINAL-URL:https://ebi.sefin.it
X-WR-CALDESC:Eventi per SEFIN s.p.a. | EBI - Easy Banca d&#039;Italia
REFRESH-INTERVAL;VALUE=DURATION:PT1H
X-Robots-Tag:noindex
X-PUBLISHED-TTL:PT1H
BEGIN:VTIMEZONE
TZID:Europe/Rome
BEGIN:DAYLIGHT
TZOFFSETFROM:+0100
TZOFFSETTO:+0200
TZNAME:CEST
DTSTART:20160327T010000
END:DAYLIGHT
BEGIN:STANDARD
TZOFFSETFROM:+0200
TZOFFSETTO:+0100
TZNAME:CET
DTSTART:20161030T010000
END:STANDARD
BEGIN:DAYLIGHT
TZOFFSETFROM:+0100
TZOFFSETTO:+0200
TZNAME:CEST
DTSTART:20170326T010000
END:DAYLIGHT
BEGIN:STANDARD
TZOFFSETFROM:+0200
TZOFFSETTO:+0100
TZNAME:CET
DTSTART:20171029T010000
END:STANDARD
BEGIN:DAYLIGHT
TZOFFSETFROM:+0100
TZOFFSETTO:+0200
TZNAME:CEST
DTSTART:20180325T010000
END:DAYLIGHT
BEGIN:STANDARD
TZOFFSETFROM:+0200
TZOFFSETTO:+0100
TZNAME:CET
DTSTART:20181028T010000
END:STANDARD
END:VTIMEZONE
BEGIN:VEVENT
DTSTART;VALUE=DATE:20170524
DTEND;VALUE=DATE:20170525
DTSTAMP:20260421T015554
CREATED:20170407T091528Z
LAST-MODIFIED:20221219T081119Z
UID:7190-1495584000-1495670399@ebi.sefin.it
SUMMARY:Sefin è sponsor al 6° Salone Antiriciclaggio
DESCRIPTION:Sesto salone e sesta presenza come sponsor dell’evento gratuito su Antiriciclaggio e Compliance di SGR Consulting. Il Salone è dedicato a tutti gli Intermediari Finanziari e Creditizi e ai professionisti del settore che desiderano conoscere le novità normative e le soluzioni disponibili per assolvere gli adempimenti in materia di contrasto al riciclaggio e al terrorismo\, come da obblighi di legge. \nINCONTRA I PROFESSIONISTI \nLe principali società specializzate in antiriciclaggio e compliance prendono parte al Salone Antiriciclaggio per offrire la propria esperienza e competenza al pubblico. \nCI SAREMO ANCHE NOI\n \n  \nNell’area espositiva del Convegno puoi parlare con i nostri esperti\, chiedere opinioni e conoscere le nostre soluzioni specifiche\, sviluppate per coprire tutti i controlli e gli adempimenti antiriciclaggio. \n Scarica il Programma degli interventi \n 
URL:https://ebi.sefin.it/corsi/sefin-sponsor-al-6-salone-antiriciclaggio/
LOCATION:Palazzo Mezzanotte\, Piazza Affari 6\, Milano\, MI\, 20100\, Italy
ATTACH;FMTTYPE=image/jpeg:https://ebi.sefin.it/wp-content/uploads/2017/04/SestoSaloneAntiriciclaggio2017-SGRconsulting.jpg
ORGANIZER;CN="SGR Consulting":MAILTO:info.ebi@sefin.it
END:VEVENT
BEGIN:VEVENT
DTSTART;VALUE=DATE:20170511
DTEND;VALUE=DATE:20170512
DTSTAMP:20260421T015554
CREATED:20170403T084808Z
LAST-MODIFIED:20240927T095218Z
UID:6884-1494460800-1494547199@ebi.sefin.it
SUMMARY:Le funzioni aziendali di controllo richieste agli Intermediari Finanziari iscritti all'art. 106 TUB (c.d. "Albo Unico")
DESCRIPTION:[vc_row][vc_column][vc_column_text]Una giornata di formazione con più Specialisti in materia audit e compliance\, per analizzare i requisiti\, le caratteristiche e i ruoli delle nuove funzioni aziendali di controllo (antiriciclaggio – internal audit – risk management – compliance) richieste agli Intermediari finanziari iscritti all’art 106 del TUB (c.d. ALBO UNICO). \nProgramma del corso\nIntroduzione sul sistema di controllo interno (a cura di Francesca Ferrario)\n\nl’Organismo di Vigilanza istituito ai sensi del D.Lgs. 231/2001\nl’OdV all’interno del sistema di controllo interno e i rapporti con le altre funzioni di controllo\n\nLa funzione antiriciclaggio: ruolo\, responsabilità e attività (a cura di Salvatore Tedesco Ph\, D.)\n\nLa funzione antiriciclaggio nel sistema di controllo interno\nI compiti della funzione antiriciclaggio e le responsabilità\nIl ruolo del responsabile della funzione antiriciclaggio\nL’esternalizzazione della funzione antiriciclaggio\nLa gestione degli adempimenti antiriciclaggio nell’ambito dei gruppi\nRendicontazione delle attività svolte: rapporti e flussi informativi con gli organi di governance e le altre funzioni aziendali\n\nI controlli di terzo livello: la funzione di internal auditing (a cura di Salvatore Tedesco Ph\, D.)\n\nLa funzione di internal auditing nel sistema di controllo interno\nI compiti della funzione di internal auditing e le responsabilità\nL’esternalizzazione della funzione di internal auditing\nLa funzione di internal auditing nell’ambito dei gruppi\nLa funzione unica di controllo\nRendicontazione delle attività svolte: rapporti e flussi informativi con gli organi di governance e le altre funzioni aziendali\n\nLa funzione di Risk Management (a cura di Amedeo Poli)\n\nI principali rischi che caratterizzano l’attività degli intermediari:\n– rischi di primo e secondo pilastro\n– rischi quantitativi e qualitativi\nModalità di misurazione del rischio di credito e operativo;\nModalità di calcolo dell’esposizione ai rischi di concentrazione e tasso di interesse\nMisurazione e gestione dei rischi qualitativi (richiamo al provvedimento di auto-valutazione a fini antiriciclaggio)\n\nLa funzione di Compliance (a cura di Amedeo Poli)\n\nLa circolare 269 Banca d’Italia e la ripartizione dei rischi di competenza tra compliance e risk management\nLe aree di competenza della funzione compliance (proposta di un piano di attività)\n\n\n\n\n    \n        \n            \n        \n        \n            \n                Programma corso 11 maggio 2017\n                \n                     748.75 KB\n                     110 downloads\n                \n            \n            ...\n        \n        \n            Download\n        \n    \n\n\n\n\n[/vc_column_text][vc_separator color=”custom” accent_color=”#fd6d0c”][vc_column_text] \n\nQui puoi consultare in dettaglio i costi e le agevolazioni per accedere ai corsi EBI \nIscriviti compilando il form sotto oppure inviaci il modulo firmato \nISCRIVITI QUI AI CORSI DI FORMAZIONE 2020 RM_StatsSeleziona: * DATA DA DEFINIRE - COVID-19: impatti sull'organizzazione degli Intermediari vigilati [ore 10 - 13]   DATA DA DEFINIRE - I sistemi informatici a supporto della normativa antiriciclaggio: le soluzioni SEFIN [ore 10 - 12]  Nome *Cognome *Email *Azienda *RuoloTelefono DATI PER LA FATTURAZIONE (solo per webinar a pagamento) Intestazione fatturaCodice destinatario SDI o PECPartita IVA o Codice FiscaleNOTE o RICHIESTE SPECIFICHEInformativa Privacy sull'iscrizione ai corsi di formazione *La società SEFIN S.p.a.\, ai sensi della normativa in materia di protezione dei dati personali è il Titolare del trattamento dei dati da Lei forniti.\nDi seguito dettagliate indicazioni riguardo il loro utilizzo e la loro protezione.\n\nFinalità e basi giuridiche\nI dati saranno utilizzati ai sensi dell’art. 6 par. 1\, lett. b) e c) del Regolamento UE 2016/679\, per le seguenti finalità: \n1. acquisizione di informazioni preliminari; \n2. esecuzione e gestione del servizio; \n3. svolgimento di tutte le attività connesse al contratto comprese quelle amministrative\, contabili e/o fiscali; \n4. raccolta di materiale multimediale durante le sessioni;\n5. adempimento a specifici obblighi derivanti da leggi\, regolamenti e/o ordini dell’Autorità connessi al contratto;\n6. esercitare i diritti del Titolare del trattamento in sede di contenzioso giudiziario.\n\nPer le finalità sopra esposte non necessario consenso che sarà invece distintamente richiesto\, come da art. 6 par. 1\, lettera a) del Regolamento per:\n7. attuare attività di marketing diretto\, consistente nell’invio tramite e-mail di comunicazioni riguardanti aggiornamenti sulla materia e/o commerciali sui prodotti e servizi offerti dal Titolare.\n8. pubblicare i materiali multimediali eventualmente acquisiti sui canali commerciali istituzionali dell’azienda (quali sito internet\, social\, ecc.).\n\nPer Sua tutela si precisa che i dati a Lei richiesti sono solo quelli strettamente necessari all’espletamento delle presenti finalità\, in osservanza del principio di minimizzazione di cui all’art. 5 par. 1\, lettera c) e che\, pertanto\, il loro mancato conferimento non potrà che causare l’impossibilità di portare a compimento quanto concordato.\n\nDati oggetto di trattamento\nI dati che Le abbiamo chiesto e che saranno oggetto di attività di trattamento per le finalità appena sopra indicate possono definirsi come:\n-	Dati identificativi: (nome e cognome);\n-	Dati di contatto: (indirizzo PEO\, indirizzo PEC\, numero di telefono fisso\, numero di cellulare);\n-	Dati di fatturazione: (C.F.\, P.I. ragione sociale e indirizzo aziendale);\n-	Dati multimediali: (immagine fotografica e/o video).\n\nModalità di trattamento\nIl trattamento sarà svolto in forma sia manuale che informatizzata\, nel rispetto di quanto previsto dall’art. 32 del Regolamento UE 2016/679\, ad opera del Titolare del trattamento o di soggetti da lui appositamente incaricati e nominati.\nL’elenco aggiornato dei Responsabili esterni del trattamento è conservato presso la sede legale del Titolare del trattamento.\nAi sensi dell’art. 4 par. 2\, si specifica che il trattamento può consistere in qualsiasi operazione o insieme di operazioni come la raccolta\, la registrazione\, la conservazione\, l’adattamento e la modifica\, l’estrazione\, la consultazione\, la comunicazione\, la limitazione\, la cancellazione o la distruzione.\n\nPeriodo di conservazione\nIl Titolare del trattamento conserverà i dati per tutto il periodo necessario ad adempiere al percorso formativo e per i successivi 10 anni dalla conclusione del rapporto.\nPer la finalità di cui al punto 7.\, invece\, il Titolare del trattamento -pur conservandoli ulteriormente- tratterà i dati di contatto per non oltre 2 anni dalla raccolta di consenso al trattamento specifico\, fatta salva la revoca anticipata dello stesso.\n\nComunicazione dei dati\nAl fine di adempiere alle finalità di cui sopra e con le modalità di cui al paragrafo precedente\, potremmo comunicare i Suoi dati a: banche ed istituti di credito; assicurazioni; enti pubblici e apparati amministrativi della P.A.; organismi di vigilanza; Autorità giudiziarie altre imprese partner; a tutti quei soggetti ai quali la comunicazione sia obbligatoria per legge per l’espletamento delle finalità predette.\nTali soggetti tratteranno i dati in qualità di autonomi titolari di trattamento.\n\nQuali sono i Suoi diritti e come esercitarli\nIn qualità di interessato\, Le sono riconosciuti i diritti di cui agli artt. dal 15 al 22 del Regolamento UE 2016/679\, ove applicabili\, che consistono in:\n-	ottenere l’accesso ai dati in possesso del Titolare del trattamento;\n-	chiedere la rettifica o la cancellazione oppure ancora la limitazione al trattamento; \n-	opporsi completamente al trattamento dei dati personali;\n-	ricevere su di un formato strutturato\, di uso comune e leggibile da dispositivo automatico i dati personali che lo riguardano e ha il diritto di far trasmettere tali dati ad un altro Titolare del trattamento (portabilità dei dati);\n-	Reclamo a un’Autorità di controllo.\n\nIn ogni momento\, Lei potrà esercitare tali diritti mediante comunicazione scritta da inviarsi a SEFIN S.p.a.\, Viale Zara 10 Milano (MI)\, oppure tramite e-mail a privacy@sefin.it o ancora tramite PEC all’indirizzo sam.sefin@legalmail. \n\nLa società SEFIN S.p.a. ha\, inoltre\, nominato il Responsabile per la Protezione Dati (DPO) che è contattabile\, per necessità in tema\, all’indirizzo dpo@frareg.com.Ho preso visione dell’Informativa Privacy\, ai sensi dell’art. 13 del GDPRInformativa sui Termini di pagamento\, cancellazione\, riprese audio/video *Pagamento delle quote di iscrizione L’iscrizione online ai corsi di formazione EBI rimane valida qualora venga effettuato il pagamento della quota d’iscrizione entro pochi giorni\, salvo diversi accordi specifici con lo staff EBI. Ai fini del saldo è possibile richiedere una fattura proforma tramite e-mail. E’ possibile consultare qui il dettaglio delle quote di partecipazione con la relativa scontistica. Politica di cancellazione annulllamento del corso Nel caso di cancellazione dell’iscrizione ad un corso di formazione o mancata partecipazione non comunicata entro 5 giorni lavorativi dalla data dell’evento\, la quota pagata sarà comunque fatturata. Se l’evento viene cancellato da SEFIN e quindi per cause non imputabili al partecipante\, la quota eventualmente già pagata e fatturata sarà restituita per intero. Riprese audio e video Durante lo svolgimento del corso potrebbero essere fatte riprese fotografiche e video digitali pertanto il partecipante accetta e inoltre dichiara di non aver nulla a pretendere per qualsiasi titolo\, ragione o causa\, presente e/o futura. Le immagini o le riprese video non sono finalizzate a riprendere i volti dei partecipanti e verranno usate esclusivamente a fini promozionali e informativi o sui siti www.sefin.it ed ebi.sefin.it. Ai partecipanti è fatto divieto di effettuare registrazioni audio o video con strumenti propri.Acconsento ai TerminiNews alert Acconsento all'invio di materiale informativo e promozionale tramite newsletter da parte del Titolare del trattamento           \n            Note: It looks like JavaScript is disabled in your browser. Some elements of this form may require JavaScript to work properly. If you have trouble submitting the form\, try enabling JavaScript momentarily and resubmit. JavaScript settings are usually found in Browser Settings or Browser Developer menu.
URL:https://ebi.sefin.it/corsi/le-funzioni-aziendali-controllo-richieste-agli-intermediari-finanziari-iscritti-art-106-tub-albo-unico/
LOCATION:AC Hotel Milano (Porta Garibaldi)\, Via Tazzoli\, 2\, MILANO\, MI\, 20154\, Italia
CATEGORIES:prossimi corsi
END:VEVENT
END:VCALENDAR